BEGIN:VCALENDAR
VERSION:2.0
PRODID:-//Transformations Community//Transformations Conference 2027//EN
CALSCALE:GREGORIAN
METHOD:PUBLISH
BEGIN:VEVENT
SUMMARY:Transformations Conference 2027
DTSTART;VALUE=DATE:20271025
DTEND;VALUE=DATE:20271030
LOCATION:Municipality of Santiago de Compostela\, A Coruña\, Spain
DESCRIPTION:People have been walking to Santiago for centuries. Not to get somewhere quickly\, but to work something through\, step by step\, over distance and time.\n\nSo much of what we do unfolds in motion\, inside projects and places under pressure to change. This gathering is a chance to step out of that flow to see the work more clearly\, understand what it demands\, and carry it forward together.\n\nHosted by the CRETUS Institute at the University of Santiago de Compostela.\n\nMore details: https://transformationscommunity.org/
STATUS:CONFIRMED
TRANSP:TRANSPARENT
END:VEVENT
END:VCALENDAR
